BEGIN:VCALENDAR
VERSION:2.0
PRODID:-//IGEAM - ECPv6.15.20//NONSGML v1.0//EN
CALSCALE:GREGORIAN
METHOD:PUBLISH
X-WR-CALNAME:IGEAM
X-ORIGINAL-URL:https://igeam.it
X-WR-CALDESC:Eventi per IGEAM
REFRESH-INTERVAL;VALUE=DURATION:PT1H
X-Robots-Tag:noindex
X-PUBLISHED-TTL:PT1H
BEGIN:VTIMEZONE
TZID:UTC
BEGIN:STANDARD
TZOFFSETFROM:+0000
TZOFFSETTO:+0000
TZNAME:UTC
DTSTART:20250101T000000
END:STANDARD
END:VTIMEZONE
BEGIN:VEVENT
DTSTART;TZID=UTC:20260616T090000
DTEND;TZID=UTC:20260616T180000
DTSTAMP:20260421T100702
CREATED:20251218T171924Z
LAST-MODIFIED:20251222T112516Z
UID:10001759-1781600400-1781632800@igeam.it
SUMMARY:AGGIORNAMENTO ANTINCENDIO LIVELLO 3 - ex alto rischio
DESCRIPTION:[vc_row][vc_column][vc_column_text css=””]AGGIORNAMENTO ANTINCENDIO LIVELLO 3 – ex alto rischio \nOBIETTIVI:\nIl corso di aggiornamento antincendio (Livello 3\, ex “alto rischio”) presso Igeam Consulting Srl ha lo scopo di fornire le conoscenze necessarie a ricoprire l’incarico di addetto alla squadra antincendio secondo quanto previsto dal DM 02/09/21 \nCONTENUTI CORSO AGGIORNAMENTO ANTINCENDIO (LIVELLO 3 – 8 ORE): \nParte teorica (5 ore)\nI contenuti del corso di aggiornamento antincendio sono selezionati tra gli argomenti del corso di formazione inziale e riguardano sia l’incendio e la prevenzione sia la protezione antincendio e le procedure da adottare in caso di incendio \nEsercitazioni pratiche (3 ore)\npresa visione del registro antincendio e delle misure di sorveglianza su impianti\, attrezzature e sistemi di sicurezza antincendio\,\nesercitazione riguardante l’attività di sorveglianza\,\nchiarimenti sui mezzi di estinzione più diffusi\,\npresa visione e chiarimenti sui dispositivi di protezione individuale\,\nesercitazioni sull’uso degli estintori portatili e modalità di utilizzo di naspi e idranti. \ndalle 9.00 alle 13.00 / dalle 14.00 alle 18.00 \n [/vc_column_text][/vc_column][/vc_row]
URL:https://igeam.it/event/aggiornamento-antincendio-livello-3-ex-alto-rischio-14/2026-06-16/
LOCATION:Calderara di Reno (BO)
CATEGORIES:Addetti Antincendio
ATTACH;FMTTYPE=image/webp:https://igeam.it/wp-content/uploads/2025/05/Antincendio-corso.webp
END:VEVENT
BEGIN:VEVENT
DTSTART;TZID=UTC:20261119T080000
DTEND;TZID=UTC:20261119T170000
DTSTAMP:20260421T100702
CREATED:20251218T171924Z
LAST-MODIFIED:20251222T112516Z
UID:10001760-1795075200-1795107600@igeam.it
SUMMARY:AGGIORNAMENTO ANTINCENDIO LIVELLO 3 - ex alto rischio
DESCRIPTION:[vc_row][vc_column][vc_column_text css=””]AGGIORNAMENTO ANTINCENDIO LIVELLO 3 – ex alto rischio \nOBIETTIVI:\nIl corso di aggiornamento antincendio (Livello 3\, ex “alto rischio”) presso Igeam Consulting Srl ha lo scopo di fornire le conoscenze necessarie a ricoprire l’incarico di addetto alla squadra antincendio secondo quanto previsto dal DM 02/09/21 \nCONTENUTI CORSO AGGIORNAMENTO ANTINCENDIO (LIVELLO 3 – 8 ORE): \nParte teorica (5 ore)\nI contenuti del corso di aggiornamento antincendio sono selezionati tra gli argomenti del corso di formazione inziale e riguardano sia l’incendio e la prevenzione sia la protezione antincendio e le procedure da adottare in caso di incendio \nEsercitazioni pratiche (3 ore)\npresa visione del registro antincendio e delle misure di sorveglianza su impianti\, attrezzature e sistemi di sicurezza antincendio\,\nesercitazione riguardante l’attività di sorveglianza\,\nchiarimenti sui mezzi di estinzione più diffusi\,\npresa visione e chiarimenti sui dispositivi di protezione individuale\,\nesercitazioni sull’uso degli estintori portatili e modalità di utilizzo di naspi e idranti. \ndalle 9.00 alle 13.00 / dalle 14.00 alle 18.00 \n [/vc_column_text][/vc_column][/vc_row]
URL:https://igeam.it/event/aggiornamento-antincendio-livello-3-ex-alto-rischio-14/2026-11-19/
LOCATION:Calderara di Reno (BO)
CATEGORIES:Addetti Antincendio
ATTACH;FMTTYPE=image/webp:https://igeam.it/wp-content/uploads/2025/05/Antincendio-corso.webp
END:VEVENT
END:VCALENDAR