BEGIN:VCALENDAR
VERSION:2.0
PRODID:-//IGEAM - ECPv6.15.20//NONSGML v1.0//EN
CALSCALE:GREGORIAN
METHOD:PUBLISH
X-WR-CALNAME:IGEAM
X-ORIGINAL-URL:https://igeam.it
X-WR-CALDESC:Eventi per IGEAM
REFRESH-INTERVAL;VALUE=DURATION:PT1H
X-Robots-Tag:noindex
X-PUBLISHED-TTL:PT1H
BEGIN:VTIMEZONE
TZID:UTC
BEGIN:STANDARD
TZOFFSETFROM:+0000
TZOFFSETTO:+0000
TZNAME:UTC
DTSTART:20250101T000000
END:STANDARD
END:VTIMEZONE
BEGIN:VEVENT
DTSTART;TZID=UTC:20260506T090000
DTEND;TZID=UTC:20260506T180000
DTSTAMP:20260421T100349
CREATED:20251218T154033Z
LAST-MODIFIED:20260119T145254Z
UID:10001596-1778058000-1778090400@igeam.it
SUMMARY:ANTINCENDIO LIVELLO 2 - ex medio rischio
DESCRIPTION:[vc_row][vc_column][vc_column_text css=””]FORMAZIONE ANTINCENDIO LIVELLO 2 presso Igeam Consulting Srl \nOBIETTIVI\nIl corso di formazione antincendio (Livello 2\, ex “medio rischio”) presso Igeam Consulting Srl – ha lo scopo di fornire le conoscenze necessarie a ricoprire l’incarico di addetto alla squadra antincendio secondo quanto previsto dal DM 02/09/21 \nCONTENUTI CORSO FORMAZIONE ANTINCENDIO (LIVELLO 2 – 8 ORE) \nL’incendio e la prevenzione incendi:\nle sostanze estinguenti\,\nil triangolo della combustione\nle principali cause di un incendio\ni rischi alle per le persone in caso di incendio\ni principali accorgimenti e misure per prevenire gli incendi \nStrategia antincendio:\nreazione al fuoco\nresistenza al fuoco\ncompartimentazione\, esodo\ncontrollo dell’incendio\nrivelazione ed allarme\ncontrollo di fumi e calore\noperatività antincendio\nsicurezza degli impianti tecnologici e di servizio.\ngestione della sicurezza antincendio in esercizio ed in emergenza\, con approfondimenti su controlli e manutenzione e sulla pianificazione di emergenza \nEsercitazioni Pratiche:\npresa visione e chiarimenti sulle attrezzature ed impianti di controllo ed estinzione degli incendi più diffusi\npresa visione e chiarimenti sui dispositivi di protezione individuale\nesercitazioni sull’uso degli estintori portatili e modalità di utilizzo di naspi e idranti\npresa visione del registro antincendio\, chiarimenti ed esercitazione riguardante l’attività di sorveglianza.[/vc_column_text][/vc_column][/vc_row]
URL:https://igeam.it/event/antincendio-livello-2-ex-medio-rischio-27/2026-05-06/
LOCATION:Vicenza
CATEGORIES:Addetti Antincendio
ATTACH;FMTTYPE=image/webp:https://igeam.it/wp-content/uploads/2025/05/Antincendio-corso.webp
END:VEVENT
BEGIN:VEVENT
DTSTART;TZID=UTC:20260610T090000
DTEND;TZID=UTC:20260610T180000
DTSTAMP:20260421T100349
CREATED:20251218T154033Z
LAST-MODIFIED:20260119T145254Z
UID:10001597-1781082000-1781114400@igeam.it
SUMMARY:ANTINCENDIO LIVELLO 2 - ex medio rischio
DESCRIPTION:[vc_row][vc_column][vc_column_text css=””]FORMAZIONE ANTINCENDIO LIVELLO 2 presso Igeam Consulting Srl \nOBIETTIVI\nIl corso di formazione antincendio (Livello 2\, ex “medio rischio”) presso Igeam Consulting Srl – ha lo scopo di fornire le conoscenze necessarie a ricoprire l’incarico di addetto alla squadra antincendio secondo quanto previsto dal DM 02/09/21 \nCONTENUTI CORSO FORMAZIONE ANTINCENDIO (LIVELLO 2 – 8 ORE) \nL’incendio e la prevenzione incendi:\nle sostanze estinguenti\,\nil triangolo della combustione\nle principali cause di un incendio\ni rischi alle per le persone in caso di incendio\ni principali accorgimenti e misure per prevenire gli incendi \nStrategia antincendio:\nreazione al fuoco\nresistenza al fuoco\ncompartimentazione\, esodo\ncontrollo dell’incendio\nrivelazione ed allarme\ncontrollo di fumi e calore\noperatività antincendio\nsicurezza degli impianti tecnologici e di servizio.\ngestione della sicurezza antincendio in esercizio ed in emergenza\, con approfondimenti su controlli e manutenzione e sulla pianificazione di emergenza \nEsercitazioni Pratiche:\npresa visione e chiarimenti sulle attrezzature ed impianti di controllo ed estinzione degli incendi più diffusi\npresa visione e chiarimenti sui dispositivi di protezione individuale\nesercitazioni sull’uso degli estintori portatili e modalità di utilizzo di naspi e idranti\npresa visione del registro antincendio\, chiarimenti ed esercitazione riguardante l’attività di sorveglianza.[/vc_column_text][/vc_column][/vc_row]
URL:https://igeam.it/event/antincendio-livello-2-ex-medio-rischio-27/2026-06-10/
LOCATION:Vicenza
CATEGORIES:Addetti Antincendio
ATTACH;FMTTYPE=image/webp:https://igeam.it/wp-content/uploads/2025/05/Antincendio-corso.webp
END:VEVENT
BEGIN:VEVENT
DTSTART;TZID=UTC:20260716T090000
DTEND;TZID=UTC:20260716T180000
DTSTAMP:20260421T100349
CREATED:20251218T154033Z
LAST-MODIFIED:20260119T145254Z
UID:10001598-1784192400-1784224800@igeam.it
SUMMARY:ANTINCENDIO LIVELLO 2 - ex medio rischio
DESCRIPTION:[vc_row][vc_column][vc_column_text css=””]FORMAZIONE ANTINCENDIO LIVELLO 2 presso Igeam Consulting Srl \nOBIETTIVI\nIl corso di formazione antincendio (Livello 2\, ex “medio rischio”) presso Igeam Consulting Srl – ha lo scopo di fornire le conoscenze necessarie a ricoprire l’incarico di addetto alla squadra antincendio secondo quanto previsto dal DM 02/09/21 \nCONTENUTI CORSO FORMAZIONE ANTINCENDIO (LIVELLO 2 – 8 ORE) \nL’incendio e la prevenzione incendi:\nle sostanze estinguenti\,\nil triangolo della combustione\nle principali cause di un incendio\ni rischi alle per le persone in caso di incendio\ni principali accorgimenti e misure per prevenire gli incendi \nStrategia antincendio:\nreazione al fuoco\nresistenza al fuoco\ncompartimentazione\, esodo\ncontrollo dell’incendio\nrivelazione ed allarme\ncontrollo di fumi e calore\noperatività antincendio\nsicurezza degli impianti tecnologici e di servizio.\ngestione della sicurezza antincendio in esercizio ed in emergenza\, con approfondimenti su controlli e manutenzione e sulla pianificazione di emergenza \nEsercitazioni Pratiche:\npresa visione e chiarimenti sulle attrezzature ed impianti di controllo ed estinzione degli incendi più diffusi\npresa visione e chiarimenti sui dispositivi di protezione individuale\nesercitazioni sull’uso degli estintori portatili e modalità di utilizzo di naspi e idranti\npresa visione del registro antincendio\, chiarimenti ed esercitazione riguardante l’attività di sorveglianza.[/vc_column_text][/vc_column][/vc_row]
URL:https://igeam.it/event/antincendio-livello-2-ex-medio-rischio-27/2026-07-16/
LOCATION:Vicenza
CATEGORIES:Addetti Antincendio
ATTACH;FMTTYPE=image/webp:https://igeam.it/wp-content/uploads/2025/05/Antincendio-corso.webp
END:VEVENT
BEGIN:VEVENT
DTSTART;TZID=UTC:20261008T090000
DTEND;TZID=UTC:20261008T180000
DTSTAMP:20260421T100349
CREATED:20251218T154033Z
LAST-MODIFIED:20260119T145254Z
UID:10001599-1791450000-1791482400@igeam.it
SUMMARY:ANTINCENDIO LIVELLO 2 - ex medio rischio
DESCRIPTION:[vc_row][vc_column][vc_column_text css=””]FORMAZIONE ANTINCENDIO LIVELLO 2 presso Igeam Consulting Srl \nOBIETTIVI\nIl corso di formazione antincendio (Livello 2\, ex “medio rischio”) presso Igeam Consulting Srl – ha lo scopo di fornire le conoscenze necessarie a ricoprire l’incarico di addetto alla squadra antincendio secondo quanto previsto dal DM 02/09/21 \nCONTENUTI CORSO FORMAZIONE ANTINCENDIO (LIVELLO 2 – 8 ORE) \nL’incendio e la prevenzione incendi:\nle sostanze estinguenti\,\nil triangolo della combustione\nle principali cause di un incendio\ni rischi alle per le persone in caso di incendio\ni principali accorgimenti e misure per prevenire gli incendi \nStrategia antincendio:\nreazione al fuoco\nresistenza al fuoco\ncompartimentazione\, esodo\ncontrollo dell’incendio\nrivelazione ed allarme\ncontrollo di fumi e calore\noperatività antincendio\nsicurezza degli impianti tecnologici e di servizio.\ngestione della sicurezza antincendio in esercizio ed in emergenza\, con approfondimenti su controlli e manutenzione e sulla pianificazione di emergenza \nEsercitazioni Pratiche:\npresa visione e chiarimenti sulle attrezzature ed impianti di controllo ed estinzione degli incendi più diffusi\npresa visione e chiarimenti sui dispositivi di protezione individuale\nesercitazioni sull’uso degli estintori portatili e modalità di utilizzo di naspi e idranti\npresa visione del registro antincendio\, chiarimenti ed esercitazione riguardante l’attività di sorveglianza.[/vc_column_text][/vc_column][/vc_row]
URL:https://igeam.it/event/antincendio-livello-2-ex-medio-rischio-27/2026-10-08/
LOCATION:Vicenza
CATEGORIES:Addetti Antincendio
ATTACH;FMTTYPE=image/webp:https://igeam.it/wp-content/uploads/2025/05/Antincendio-corso.webp
END:VEVENT
BEGIN:VEVENT
DTSTART;TZID=UTC:20261113T090000
DTEND;TZID=UTC:20261113T180000
DTSTAMP:20260421T100349
CREATED:20251218T154033Z
LAST-MODIFIED:20260119T145254Z
UID:10001600-1794560400-1794592800@igeam.it
SUMMARY:ANTINCENDIO LIVELLO 2 - ex medio rischio
DESCRIPTION:[vc_row][vc_column][vc_column_text css=””]FORMAZIONE ANTINCENDIO LIVELLO 2 presso Igeam Consulting Srl \nOBIETTIVI\nIl corso di formazione antincendio (Livello 2\, ex “medio rischio”) presso Igeam Consulting Srl – ha lo scopo di fornire le conoscenze necessarie a ricoprire l’incarico di addetto alla squadra antincendio secondo quanto previsto dal DM 02/09/21 \nCONTENUTI CORSO FORMAZIONE ANTINCENDIO (LIVELLO 2 – 8 ORE) \nL’incendio e la prevenzione incendi:\nle sostanze estinguenti\,\nil triangolo della combustione\nle principali cause di un incendio\ni rischi alle per le persone in caso di incendio\ni principali accorgimenti e misure per prevenire gli incendi \nStrategia antincendio:\nreazione al fuoco\nresistenza al fuoco\ncompartimentazione\, esodo\ncontrollo dell’incendio\nrivelazione ed allarme\ncontrollo di fumi e calore\noperatività antincendio\nsicurezza degli impianti tecnologici e di servizio.\ngestione della sicurezza antincendio in esercizio ed in emergenza\, con approfondimenti su controlli e manutenzione e sulla pianificazione di emergenza \nEsercitazioni Pratiche:\npresa visione e chiarimenti sulle attrezzature ed impianti di controllo ed estinzione degli incendi più diffusi\npresa visione e chiarimenti sui dispositivi di protezione individuale\nesercitazioni sull’uso degli estintori portatili e modalità di utilizzo di naspi e idranti\npresa visione del registro antincendio\, chiarimenti ed esercitazione riguardante l’attività di sorveglianza.[/vc_column_text][/vc_column][/vc_row]
URL:https://igeam.it/event/antincendio-livello-2-ex-medio-rischio-27/2026-11-13/
LOCATION:Vicenza
CATEGORIES:Addetti Antincendio
ATTACH;FMTTYPE=image/webp:https://igeam.it/wp-content/uploads/2025/05/Antincendio-corso.webp
END:VEVENT
BEGIN:VEVENT
DTSTART;TZID=UTC:20261216T090000
DTEND;TZID=UTC:20261216T180000
DTSTAMP:20260421T100349
CREATED:20251218T154033Z
LAST-MODIFIED:20260119T145254Z
UID:10001601-1797411600-1797444000@igeam.it
SUMMARY:ANTINCENDIO LIVELLO 2 - ex medio rischio
DESCRIPTION:[vc_row][vc_column][vc_column_text css=””]FORMAZIONE ANTINCENDIO LIVELLO 2 presso Igeam Consulting Srl \nOBIETTIVI\nIl corso di formazione antincendio (Livello 2\, ex “medio rischio”) presso Igeam Consulting Srl – ha lo scopo di fornire le conoscenze necessarie a ricoprire l’incarico di addetto alla squadra antincendio secondo quanto previsto dal DM 02/09/21 \nCONTENUTI CORSO FORMAZIONE ANTINCENDIO (LIVELLO 2 – 8 ORE) \nL’incendio e la prevenzione incendi:\nle sostanze estinguenti\,\nil triangolo della combustione\nle principali cause di un incendio\ni rischi alle per le persone in caso di incendio\ni principali accorgimenti e misure per prevenire gli incendi \nStrategia antincendio:\nreazione al fuoco\nresistenza al fuoco\ncompartimentazione\, esodo\ncontrollo dell’incendio\nrivelazione ed allarme\ncontrollo di fumi e calore\noperatività antincendio\nsicurezza degli impianti tecnologici e di servizio.\ngestione della sicurezza antincendio in esercizio ed in emergenza\, con approfondimenti su controlli e manutenzione e sulla pianificazione di emergenza \nEsercitazioni Pratiche:\npresa visione e chiarimenti sulle attrezzature ed impianti di controllo ed estinzione degli incendi più diffusi\npresa visione e chiarimenti sui dispositivi di protezione individuale\nesercitazioni sull’uso degli estintori portatili e modalità di utilizzo di naspi e idranti\npresa visione del registro antincendio\, chiarimenti ed esercitazione riguardante l’attività di sorveglianza.[/vc_column_text][/vc_column][/vc_row]
URL:https://igeam.it/event/antincendio-livello-2-ex-medio-rischio-27/2026-12-16/
LOCATION:Vicenza
CATEGORIES:Addetti Antincendio
ATTACH;FMTTYPE=image/webp:https://igeam.it/wp-content/uploads/2025/05/Antincendio-corso.webp
END:VEVENT
END:VCALENDAR